BEGIN:VCALENDAR
VERSION:2.0
PRODID:icalendar-ruby
CALSCALE:GREGORIAN
METHOD:PUBLISH
BEGIN:VEVENT
DTSTAMP:20260422T025246Z
UID:6-313050@peaceunited.tithelysetup2.com
DTSTART:20260503T160000Z
DTEND:20260503T170000Z
CLASS:PUBLIC
CREATED:20260327T185135
DESCRIPTION:
LAST-MODIFIED:20260327T185135
LOCATION:
SUMMARY:Milpitas Worship Service
URL;VALUE=URI:https://peaceunited.tithelysetup2.com/events/milpitas-worship
 -service/2026-05-03
END:VEVENT
END:VCALENDAR
