BEGIN:VCALENDAR
VERSION:2.0
PRODID:icalendar-ruby
CALSCALE:GREGORIAN
METHOD:PUBLISH
BEGIN:VEVENT
DTSTAMP:20260422T011655Z
UID:7-313077@peaceunited.tithelysetup2.com
DTSTART:20260426T173000Z
DTEND:20260426T183000Z
CLASS:PUBLIC
CREATED:20260327T185212
DESCRIPTION:
LAST-MODIFIED:20260327T185212
LOCATION:
SUMMARY:San Jose Worship Service
URL;VALUE=URI:https://peaceunited.tithelysetup2.com/events/san-jose-worship
 -service/2026-04-26
END:VEVENT
END:VCALENDAR
