BEGIN:VCALENDAR
VERSION:2.0
PRODID:icalendar-ruby
CALSCALE:GREGORIAN
METHOD:PUBLISH
BEGIN:VEVENT
DTSTAMP:20260422T130128Z
UID:7-313083@peaceunited.tithelysetup2.com
DTSTART:20260607T173000Z
DTEND:20260607T183000Z
CLASS:PUBLIC
CREATED:20260327T185212
DESCRIPTION:
LAST-MODIFIED:20260327T185212
LOCATION:
SUMMARY:San Jose Worship Service
URL;VALUE=URI:https://peaceunited.tithelysetup2.com/events/san-jose-worship
 -service/2026-06-07
END:VEVENT
END:VCALENDAR
