BEGIN:VCALENDAR
VERSION:2.0
PRODID:icalendar-ruby
CALSCALE:GREGORIAN
METHOD:PUBLISH
BEGIN:VEVENT
DTSTAMP:20260423T002603Z
UID:7-313090@peaceunited.tithelysetup2.com
DTSTART:20260726T173000Z
DTEND:20260726T183000Z
CLASS:PUBLIC
CREATED:20260327T185212
DESCRIPTION:
LAST-MODIFIED:20260327T185212
LOCATION:
SUMMARY:San Jose Worship Service
URL;VALUE=URI:https://peaceunited.tithelysetup2.com/events/san-jose-worship
 -service/2026-07-26
END:VEVENT
END:VCALENDAR
