BEGIN:VCALENDAR
VERSION:2.0
PRODID:icalendar-ruby
CALSCALE:GREGORIAN
METHOD:PUBLISH
BEGIN:VEVENT
DTSTAMP:20260423T142349Z
UID:7-313097@peaceunited.tithelysetup2.com
DTSTART:20260913T173000Z
DTEND:20260913T183000Z
CLASS:PUBLIC
CREATED:20260327T185212
DESCRIPTION:
LAST-MODIFIED:20260327T185212
LOCATION:
SUMMARY:San Jose Worship Service
URL;VALUE=URI:https://peaceunited.tithelysetup2.com/events/san-jose-worship
 -service/2026-09-13
END:VEVENT
END:VCALENDAR
